BEGIN:VCALENDAR
VERSION:2.0
PRODID:-//Beatlesnytt.se - ECPv6.15.18//NONSGML v1.0//EN
CALSCALE:GREGORIAN
METHOD:PUBLISH
X-WR-CALNAME:Beatlesnytt.se
X-ORIGINAL-URL:https://beatlesnytt.se
X-WR-CALDESC:Händelser för Beatlesnytt.se
REFRESH-INTERVAL;VALUE=DURATION:PT1H
X-Robots-Tag:noindex
X-PUBLISHED-TTL:PT1H
BEGIN:VTIMEZONE
TZID:Europe/Stockholm
BEGIN:DAYLIGHT
TZOFFSETFROM:+0100
TZOFFSETTO:+0200
TZNAME:CEST
DTSTART:20200329T010000
END:DAYLIGHT
BEGIN:STANDARD
TZOFFSETFROM:+0200
TZOFFSETTO:+0100
TZNAME:CET
DTSTART:20201025T010000
END:STANDARD
BEGIN:DAYLIGHT
TZOFFSETFROM:+0100
TZOFFSETTO:+0200
TZNAME:CEST
DTSTART:20210328T010000
END:DAYLIGHT
BEGIN:STANDARD
TZOFFSETFROM:+0200
TZOFFSETTO:+0100
TZNAME:CET
DTSTART:20211031T010000
END:STANDARD
BEGIN:DAYLIGHT
TZOFFSETFROM:+0100
TZOFFSETTO:+0200
TZNAME:CEST
DTSTART:20220327T010000
END:DAYLIGHT
BEGIN:STANDARD
TZOFFSETFROM:+0200
TZOFFSETTO:+0100
TZNAME:CET
DTSTART:20221030T010000
END:STANDARD
END:VTIMEZONE
BEGIN:VEVENT
DTSTART;VALUE=DATE:20210910
DTEND;VALUE=DATE:20210911
DTSTAMP:20260425T051353
CREATED:20210902T084146Z
LAST-MODIFIED:20210902T084146Z
UID:33032-1631232000-1631318399@beatlesnytt.se
SUMMARY:John Lennon släpper 'Imagine' i exklusiv utgåva i vitfärgad vinyl
DESCRIPTION:
URL:https://beatlesnytt.se/event/john-lennon-slapper-imagine-i-exklusiv-utgava-i-vitfargad-vinyl/
END:VEVENT
END:VCALENDAR