BEGIN:VCALENDAR
VERSION:2.0
PRODID:-//Beatlesnytt.se - ECPv6.15.18//NONSGML v1.0//EN
CALSCALE:GREGORIAN
METHOD:PUBLISH
X-WR-CALNAME:Beatlesnytt.se
X-ORIGINAL-URL:https://beatlesnytt.se
X-WR-CALDESC:Händelser för Beatlesnytt.se
REFRESH-INTERVAL;VALUE=DURATION:PT1H
X-Robots-Tag:noindex
X-PUBLISHED-TTL:PT1H
BEGIN:VTIMEZONE
TZID:Europe/Stockholm
BEGIN:DAYLIGHT
TZOFFSETFROM:+0100
TZOFFSETTO:+0200
TZNAME:CEST
DTSTART:20210328T010000
END:DAYLIGHT
BEGIN:STANDARD
TZOFFSETFROM:+0200
TZOFFSETTO:+0100
TZNAME:CET
DTSTART:20211031T010000
END:STANDARD
BEGIN:DAYLIGHT
TZOFFSETFROM:+0100
TZOFFSETTO:+0200
TZNAME:CEST
DTSTART:20220327T010000
END:DAYLIGHT
BEGIN:STANDARD
TZOFFSETFROM:+0200
TZOFFSETTO:+0100
TZNAME:CET
DTSTART:20221030T010000
END:STANDARD
BEGIN:DAYLIGHT
TZOFFSETFROM:+0100
TZOFFSETTO:+0200
TZNAME:CEST
DTSTART:20230326T010000
END:DAYLIGHT
BEGIN:STANDARD
TZOFFSETFROM:+0200
TZOFFSETTO:+0100
TZNAME:CET
DTSTART:20231029T010000
END:STANDARD
END:VTIMEZONE
BEGIN:VEVENT
DTSTART;TZID=Europe/Stockholm:20220513T190000
DTEND;TZID=Europe/Stockholm:20220513T220000
DTSTAMP:20260424T093753
CREATED:20220223T144930Z
LAST-MODIFIED:20220223T144930Z
UID:36863-1652468400-1652479200@beatlesnytt.se
SUMMARY:Beatles vs Stones Party - Årets musikfest
DESCRIPTION:  \n \nGå in på nedanstående länk för att boka biljetter: \nhttps://www.musikenshus.se/beatles-vs-stones/ \n 
URL:https://beatlesnytt.se/event/beatles-vs-stones-party-arets-musikfest/
LOCATION:Musikens Hus i Göteborg\, Djurgårdsgatan 13\, Göteborg\, Sverige
END:VEVENT
END:VCALENDAR