BEGIN:VCALENDAR
VERSION:2.0
PRODID:-//Beatlesnytt.se - ECPv6.15.18//NONSGML v1.0//EN
CALSCALE:GREGORIAN
METHOD:PUBLISH
X-ORIGINAL-URL:https://beatlesnytt.se
X-WR-CALDESC:Händelser för Beatlesnytt.se
REFRESH-INTERVAL;VALUE=DURATION:PT1H
X-Robots-Tag:noindex
X-PUBLISHED-TTL:PT1H
BEGIN:VTIMEZONE
TZID:Europe/Stockholm
BEGIN:DAYLIGHT
TZOFFSETFROM:+0100
TZOFFSETTO:+0200
TZNAME:CEST
DTSTART:20210328T010000
END:DAYLIGHT
BEGIN:STANDARD
TZOFFSETFROM:+0200
TZOFFSETTO:+0100
TZNAME:CET
DTSTART:20211031T010000
END:STANDARD
BEGIN:DAYLIGHT
TZOFFSETFROM:+0100
TZOFFSETTO:+0200
TZNAME:CEST
DTSTART:20220327T010000
END:DAYLIGHT
BEGIN:STANDARD
TZOFFSETFROM:+0200
TZOFFSETTO:+0100
TZNAME:CET
DTSTART:20221030T010000
END:STANDARD
BEGIN:DAYLIGHT
TZOFFSETFROM:+0100
TZOFFSETTO:+0200
TZNAME:CEST
DTSTART:20230326T010000
END:DAYLIGHT
BEGIN:STANDARD
TZOFFSETFROM:+0200
TZOFFSETTO:+0100
TZNAME:CET
DTSTART:20231029T010000
END:STANDARD
END:VTIMEZONE
BEGIN:VEVENT
DTSTART;VALUE=DATE:20220824
DTEND;VALUE=DATE:20220901
DTSTAMP:20260424T013256
CREATED:20210915T140122Z
LAST-MODIFIED:20220223T143727Z
UID:33624-1661299200-1661990399@beatlesnytt.se
SUMMARY:LIVERPOOL INTERNATIONAL BEATLEWEEK FESTIVAL 24-31 AUGUSTI 2022
DESCRIPTION:Mellan den 24 och 31 augusti 2022 kommer Liverpool International BEATLEWEEK Festival att äga rum \n \nSe även denna länk www.beatlesresa.se
URL:https://beatlesnytt.se/event/liverpool-international-beatleweek-festival-24-31-augusti-2022/
END:VEVENT
BEGIN:VEVENT
DTSTART;TZID=Europe/Stockholm:20220829T180000
DTEND;TZID=Europe/Stockholm:20220829T220000
DTSTAMP:20260424T013256
CREATED:20220712T095254Z
LAST-MODIFIED:20220712T095254Z
UID:39566-1661796000-1661810400@beatlesnytt.se
SUMMARY:Paul McCartney 80 år firas på Galejan på Skansen i Stockholm den 29 augusti 2022
DESCRIPTION:Paul McCartney 80 år! Med special guests TOMMY KÖRBERG och FRIDA ÖHRN!! \n \nKonsertbiljett till Galejan gäller även som entrébiljett till Skansen – hela dagen!  \nBiljetter: \nsecure.tickster.com/sv/2hjmey05y0fjlzh/products \nThe Beatles Information Center representeras av föreningen redaktör Thomas André\, som kommer att möta er i entrén!
URL:https://beatlesnytt.se/event/paul-mccartney-80-ar-firas-pa-galejan-pa-skansen-i-stockholm-den-29-augusti-2022/
LOCATION:Galejan på Skansen\, Sollidsbacken\, Stockholm\, Sverige
END:VEVENT
END:VCALENDAR