BEGIN:VCALENDAR
VERSION:2.0
PRODID:-//Beatlesnytt.se - ECPv6.15.18//NONSGML v1.0//EN
CALSCALE:GREGORIAN
METHOD:PUBLISH
X-WR-CALNAME:Beatlesnytt.se
X-ORIGINAL-URL:https://beatlesnytt.se
X-WR-CALDESC:Händelser för Beatlesnytt.se
REFRESH-INTERVAL;VALUE=DURATION:PT1H
X-Robots-Tag:noindex
X-PUBLISHED-TTL:PT1H
BEGIN:VTIMEZONE
TZID:Europe/Stockholm
BEGIN:DAYLIGHT
TZOFFSETFROM:+0100
TZOFFSETTO:+0200
TZNAME:CEST
DTSTART:20200329T010000
END:DAYLIGHT
BEGIN:STANDARD
TZOFFSETFROM:+0200
TZOFFSETTO:+0100
TZNAME:CET
DTSTART:20201025T010000
END:STANDARD
BEGIN:DAYLIGHT
TZOFFSETFROM:+0100
TZOFFSETTO:+0200
TZNAME:CEST
DTSTART:20210328T010000
END:DAYLIGHT
BEGIN:STANDARD
TZOFFSETFROM:+0200
TZOFFSETTO:+0100
TZNAME:CET
DTSTART:20211031T010000
END:STANDARD
BEGIN:DAYLIGHT
TZOFFSETFROM:+0100
TZOFFSETTO:+0200
TZNAME:CEST
DTSTART:20220327T010000
END:DAYLIGHT
BEGIN:STANDARD
TZOFFSETFROM:+0200
TZOFFSETTO:+0100
TZNAME:CET
DTSTART:20221030T010000
END:STANDARD
END:VTIMEZONE
BEGIN:VEVENT
DTSTART;VALUE=DATE:20210825
DTEND;VALUE=DATE:20210902
DTSTAMP:20260425T031301
CREATED:20200727T140917Z
LAST-MODIFIED:20200727T141048Z
UID:18776-1629849600-1630540799@beatlesnytt.se
SUMMARY:Beatle Week Liverpool flyttas till 25/8 - 1/9 2021
DESCRIPTION:Datumen på bilden ovan gällde 2020. Men för 2021 gäller det som står i rubriken från den 25 augusti till den 1 september.
URL:https://beatlesnytt.se/event/beatle-week-liverpool-flyttas-till-25-8-1-9-2021/
END:VEVENT
BEGIN:VEVENT
DTSTART;VALUE=DATE:20210902
DTEND;VALUE=DATE:20210903
DTSTAMP:20260425T031301
CREATED:20210402T132749Z
LAST-MODIFIED:20210402T132749Z
UID:28995-1630540800-1630627199@beatlesnytt.se
SUMMARY:Paul McCartneys uppföljare till boken 'Hey\, Grandude! - Grandude's Green Submarine publiceras
DESCRIPTION:
URL:https://beatlesnytt.se/event/paul-mccartneys-uppfoljare-till-boken-hey-grandude-grandudes-green-submarine-publiceras/
END:VEVENT
BEGIN:VEVENT
DTSTART;VALUE=DATE:20210910
DTEND;VALUE=DATE:20210911
DTSTAMP:20260425T031301
CREATED:20210902T084146Z
LAST-MODIFIED:20210902T084146Z
UID:33032-1631232000-1631318399@beatlesnytt.se
SUMMARY:John Lennon släpper 'Imagine' i exklusiv utgåva i vitfärgad vinyl
DESCRIPTION:
URL:https://beatlesnytt.se/event/john-lennon-slapper-imagine-i-exklusiv-utgava-i-vitfargad-vinyl/
END:VEVENT
BEGIN:VEVENT
DTSTART;VALUE=DATE:20210924
DTEND;VALUE=DATE:20210925
DTSTAMP:20260425T031301
CREATED:20210821T122243Z
LAST-MODIFIED:20210821T122243Z
UID:32564-1632441600-1632527999@beatlesnytt.se
SUMMARY:RINGO STARRS ep 'Change The World' släpps
DESCRIPTION:
URL:https://beatlesnytt.se/event/ringo-starrs-ep-change-the-world-slapps/
END:VEVENT
END:VCALENDAR