BEGIN:VCALENDAR
VERSION:2.0
PRODID:-//Beatlesnytt.se - ECPv6.15.18//NONSGML v1.0//EN
CALSCALE:GREGORIAN
METHOD:PUBLISH
X-ORIGINAL-URL:https://beatlesnytt.se
X-WR-CALDESC:Händelser för Beatlesnytt.se
REFRESH-INTERVAL;VALUE=DURATION:PT1H
X-Robots-Tag:noindex
X-PUBLISHED-TTL:PT1H
BEGIN:VTIMEZONE
TZID:Europe/Stockholm
BEGIN:DAYLIGHT
TZOFFSETFROM:+0100
TZOFFSETTO:+0200
TZNAME:CEST
DTSTART:20200329T010000
END:DAYLIGHT
BEGIN:STANDARD
TZOFFSETFROM:+0200
TZOFFSETTO:+0100
TZNAME:CET
DTSTART:20201025T010000
END:STANDARD
BEGIN:DAYLIGHT
TZOFFSETFROM:+0100
TZOFFSETTO:+0200
TZNAME:CEST
DTSTART:20210328T010000
END:DAYLIGHT
BEGIN:STANDARD
TZOFFSETFROM:+0200
TZOFFSETTO:+0100
TZNAME:CET
DTSTART:20211031T010000
END:STANDARD
BEGIN:DAYLIGHT
TZOFFSETFROM:+0100
TZOFFSETTO:+0200
TZNAME:CEST
DTSTART:20220327T010000
END:DAYLIGHT
BEGIN:STANDARD
TZOFFSETFROM:+0200
TZOFFSETTO:+0100
TZNAME:CET
DTSTART:20221030T010000
END:STANDARD
END:VTIMEZONE
BEGIN:VEVENT
DTSTART;VALUE=DATE:20211009
DTEND;VALUE=DATE:20211010
DTSTAMP:20260425T011209
CREATED:20210402T135349Z
LAST-MODIFIED:20210402T135349Z
UID:29007-1633737600-1633823999@beatlesnytt.se
SUMMARY:John Lennon skulle ha fyllt 81 denna dag om han fått vara med oss
DESCRIPTION:
URL:https://beatlesnytt.se/event/john-lennon-skulle-ha-fyllt-81-denna-dag-om-han-fatt-vara-med-oss/
END:VEVENT
BEGIN:VEVENT
DTSTART;VALUE=DATE:20211012
DTEND;VALUE=DATE:20211013
DTSTAMP:20260425T011209
CREATED:20210722T150930Z
LAST-MODIFIED:20210724T151603Z
UID:31741-1633996800-1634083199@beatlesnytt.se
SUMMARY:Boken ’The Beatles: Get Back’ av The Beatles\, John Harris (Editor)\, Ethan Russell (fotograf)\, Linda McCartney (fotograf)\, & 2 more publiceras
DESCRIPTION: 
URL:https://beatlesnytt.se/event/boken-get-back-med-the-beatlespubliceras/
END:VEVENT
BEGIN:VEVENT
DTSTART;VALUE=DATE:20211029
DTEND;VALUE=DATE:20211031
DTSTAMP:20260425T011209
CREATED:20200225T161929Z
LAST-MODIFIED:20210913T143442Z
UID:14750-1635465600-1635638399@beatlesnytt.se
SUMMARY:Beatle Day Gothenburg 2021 - INSTÄLLT OCH FLYTTAT TILL DEN 2 APRIL 2022!
DESCRIPTION:Vi välkomnar alla gäster till Beatle Day 29 & 30 oktober 2021 då vi firar att det var 10 år sedan vi startade Beatle Day. Vi kommer att arbeta fram ett massivt och spännande jubileumsprogram. \nFRAMFLYTTAT TILL DEN 2 APRIL 2022!
URL:https://beatlesnytt.se/event/beatle-day-gothenburg/
CATEGORIES:Show,Musik
END:VEVENT
END:VCALENDAR