BEGIN:VCALENDAR
VERSION:2.0
PRODID:-//Beatlesnytt.se - ECPv6.15.18//NONSGML v1.0//EN
CALSCALE:GREGORIAN
METHOD:PUBLISH
X-WR-CALNAME:Beatlesnytt.se
X-ORIGINAL-URL:https://beatlesnytt.se
X-WR-CALDESC:Händelser för Beatlesnytt.se
REFRESH-INTERVAL;VALUE=DURATION:PT1H
X-Robots-Tag:noindex
X-PUBLISHED-TTL:PT1H
BEGIN:VTIMEZONE
TZID:Europe/Stockholm
BEGIN:DAYLIGHT
TZOFFSETFROM:+0100
TZOFFSETTO:+0200
TZNAME:CEST
DTSTART:20200329T010000
END:DAYLIGHT
BEGIN:STANDARD
TZOFFSETFROM:+0200
TZOFFSETTO:+0100
TZNAME:CET
DTSTART:20201025T010000
END:STANDARD
BEGIN:DAYLIGHT
TZOFFSETFROM:+0100
TZOFFSETTO:+0200
TZNAME:CEST
DTSTART:20210328T010000
END:DAYLIGHT
BEGIN:STANDARD
TZOFFSETFROM:+0200
TZOFFSETTO:+0100
TZNAME:CET
DTSTART:20211031T010000
END:STANDARD
BEGIN:DAYLIGHT
TZOFFSETFROM:+0100
TZOFFSETTO:+0200
TZNAME:CEST
DTSTART:20220327T010000
END:DAYLIGHT
BEGIN:STANDARD
TZOFFSETFROM:+0200
TZOFFSETTO:+0100
TZNAME:CET
DTSTART:20221030T010000
END:STANDARD
END:VTIMEZONE
BEGIN:VEVENT
DTSTART;VALUE=DATE:20211102
DTEND;VALUE=DATE:20211103
DTSTAMP:20260424T210921
CREATED:20210402T130742Z
LAST-MODIFIED:20210402T130742Z
UID:28986-1635811200-1635897599@beatlesnytt.se
SUMMARY:Paul McCartneys självbiografi 'The Lyrics' publiceras
DESCRIPTION:
URL:https://beatlesnytt.se/event/paul-mccartneys-sjalvbiografi-the-lyrics-publiceras/
END:VEVENT
BEGIN:VEVENT
DTSTART;VALUE=DATE:20211125
DTEND;VALUE=DATE:20211126
DTSTAMP:20260424T210921
CREATED:20210722T143225Z
LAST-MODIFIED:20210724T151155Z
UID:31725-1637798400-1637884799@beatlesnytt.se
SUMMARY:Del 1 av 3 av Peter Jacksons film 'The Beatles: Get Back' har premiär på Disney+
DESCRIPTION:
URL:https://beatlesnytt.se/event/del-1-av-3-av-peter-jacksons-film-the-beatles-get-back-har-premiar-pa-disney/
END:VEVENT
BEGIN:VEVENT
DTSTART;VALUE=DATE:20211126
DTEND;VALUE=DATE:20211127
DTSTAMP:20260424T210921
CREATED:20210722T143300Z
LAST-MODIFIED:20210724T151228Z
UID:31727-1637884800-1637971199@beatlesnytt.se
SUMMARY:Del 2 av 3 av Peter Jacksons film 'The Beatles: Get Back' har premiär på Disney+
DESCRIPTION: 
URL:https://beatlesnytt.se/event/del-2-av-3-av-peter-jacksons-film-the-beatles-get-back-har-premiar-pa-disney/
END:VEVENT
BEGIN:VEVENT
DTSTART;VALUE=DATE:20211127
DTEND;VALUE=DATE:20211128
DTSTAMP:20260424T210921
CREATED:20210722T143330Z
LAST-MODIFIED:20210724T151325Z
UID:31729-1637971200-1638057599@beatlesnytt.se
SUMMARY:Del 3 av 3 av Peter Jacksons film 'The Beatles: Get Back' har premiär på Disney+
DESCRIPTION:
URL:https://beatlesnytt.se/event/del-3-av-3-av-peter-jacksons-film-the-beatles-get-back-har-premiar-pa-disney/
END:VEVENT
END:VCALENDAR